BEGIN:VCALENDAR
VERSION:2.0
PRODID:-//Plone.org//NONSGML plone.app.event//EN
X-WR-TIMEZONE:US/Central
BEGIN:VEVENT
SUMMARY:Sundown Mobile Food Pantry
DTSTART;TZID=US/Central:20260421T123000
DTEND;TZID=US/Central:20260421T133000
DTSTAMP:20260419T214434Z
UID:5b5c14efbeb44318b2554242cd6bbe94@saas_stack_varnish:6080
CREATED:20251208T202005Z
LAST-MODIFIED:20251208T202012Z
URL:https://sundown.ploud.net/sundown-mobile-food-pantry-1/2026-04-21
END:VEVENT
BEGIN:VTIMEZONE
TZID:US/Central
X-LIC-LOCATION:US/Central
BEGIN:DAYLIGHT
DTSTART:20260308T030000
TZNAME:CDT
TZOFFSETFROM:-0600
TZOFFSETTO:-0500
END:DAYLIGHT
END:VTIMEZONE
END:VCALENDAR
