BEGIN:VCALENDAR
VERSION:2.0
PRODID:-//Plone.org//NONSGML plone.app.event//EN
X-WR-TIMEZONE:US/Central
BEGIN:VEVENT
SUMMARY:Sundown Mobile Food Pantry
DTSTART;TZID=US/Central:20260127T123000
DTEND;TZID=US/Central:20260127T133000
DTSTAMP:20260425T205033Z
UID:5162b00a66a8484d85f3222016593d92@saas_stack_varnish:6080
CREATED:20250904T153724Z
DESCRIPTION:Mobile Food Pantry distribution. Please register to receive a 
 box.
LAST-MODIFIED:20251208T160521Z
URL:https://sundown.ploud.net/events/sundown-mobile-food-pantry-1/2026-01-
 27
END:VEVENT
BEGIN:VTIMEZONE
TZID:US/Central
X-LIC-LOCATION:US/Central
BEGIN:STANDARD
DTSTART:20251102T010000
TZNAME:CST
TZOFFSETFROM:-0500
TZOFFSETTO:-0600
END:STANDARD
END:VTIMEZONE
END:VCALENDAR
