BEGIN:VCALENDAR
VERSION:2.0
PRODID:-//Plone.org//NONSGML plone.app.event//EN
X-WR-TIMEZONE:US/Central
BEGIN:VEVENT
SUMMARY:StoryTime
DTSTART;TZID=US/Central:20240513T100000
DTEND;TZID=US/Central:20240513T104500
DTSTAMP:20260426T013344Z
UID:9a1d1354597541889920df1acffce65d@saas_stack_varnish:6080
CONTACT:Roxane Rivera\, 8062143099\, StoryTime79372@gmail.com
CREATED:20240417T162340Z
LAST-MODIFIED:20241001T173151Z
LOCATION:201 E. Fifth - DreaM Room
URL:https://sundown.ploud.net/events/storytime-1/2024-05-13
END:VEVENT
BEGIN:VTIMEZONE
TZID:US/Central
X-LIC-LOCATION:US/Central
BEGIN:DAYLIGHT
DTSTART:20240310T030000
TZNAME:CDT
TZOFFSETFROM:-0600
TZOFFSETTO:-0500
END:DAYLIGHT
END:VTIMEZONE
END:VCALENDAR
