BEGIN:VCALENDAR
VERSION:2.0
PRODID:-//Plone.org//NONSGML plone.app.event//EN
X-WR-TIMEZONE:US/Central
BEGIN:VEVENT
SUMMARY:Movie Matinee
DTSTART;TZID=US/Central:20220714T140000
DTEND;TZID=US/Central:20220714T153000
DTSTAMP:20260426T013405Z
UID:abe44ef130ee44bc8d3cdcc6f1911a42@saas_stack_varnish:6080
CONTACT:Andrea McAdams\, 8068911413\, SundownLibrary@gmail.com
CREATED:20220602T182313Z
LAST-MODIFIED:20241001T173153Z
LOCATION:Annex @ 201 E. 5th
URL:https://sundown.ploud.net/events/movie-matinee/2022-07-14
END:VEVENT
BEGIN:VTIMEZONE
TZID:US/Central
X-LIC-LOCATION:US/Central
BEGIN:DAYLIGHT
DTSTART:20220313T030000
TZNAME:CDT
TZOFFSETFROM:-0600
TZOFFSETTO:-0500
END:DAYLIGHT
END:VTIMEZONE
END:VCALENDAR
