BEGIN:VCALENDAR
VERSION:2.0
PRODID:-//Plone.org//NONSGML plone.app.event//EN
X-WR-TIMEZONE:US/Central
BEGIN:VEVENT
SUMMARY:LEGO Club
DTSTART;VALUE=DATE:20251014
DTEND;VALUE=DATE:20251015
DTSTAMP:20260421T101959Z
UID:da091c11de3f4c6baf555faaa7e6de27@saas_stack_varnish:6080
CREATED:20250904T151312Z
DESCRIPTION:Come and build all day\, every Tuesday! LEGOs provided.
LAST-MODIFIED:20250904T151322Z
LOCATION:Dream Room
URL:https://sundown.ploud.net/events/lego-club-1/2025-10-14
END:VEVENT
END:VCALENDAR
