BEGIN:VCALENDAR
VERSION:2.0
PRODID:-//Plone.org//NONSGML plone.app.event//EN
X-WR-TIMEZONE:US/Central
BEGIN:VEVENT
SUMMARY:CrafterNOON
DTSTART;TZID=US/Central:20240610T120000
DTSTAMP:20260426T013328Z
UID:5967bd15d536427b9196cd0c7d464366@saas_stack_varnish:6080
CONTACT:A'ndrea McAdams\, 8062143099\, SundownLibrary@gmail.com
CREATED:20240417T163243Z
LAST-MODIFIED:20241001T173151Z
LOCATION:201 E. Fifth
URL:https://sundown.ploud.net/events/crafternoon/2024-06-10
END:VEVENT
BEGIN:VTIMEZONE
TZID:US/Central
X-LIC-LOCATION:US/Central
BEGIN:DAYLIGHT
DTSTART:20240310T030000
TZNAME:CDT
TZOFFSETFROM:-0600
TZOFFSETTO:-0500
END:DAYLIGHT
END:VTIMEZONE
END:VCALENDAR
