BEGIN:VCALENDAR
VERSION:2.0
PRODID:-//Plone.org//NONSGML plone.app.event//EN
X-WR-TIMEZONE:US/Central
BEGIN:VEVENT
SUMMARY:Bluebonnet Book Club
DTSTART;TZID=US/Central:20210615T110000
DTEND;TZID=US/Central:20210615T113000
DTSTAMP:20260421T114624Z
UID:51c00ca9eff3468e9ec4402c445a4a68@saas_stack_varnish:6080
CONTACT:Andrea McAdams\, 8068911413\, SundownLibrary@gmail.com
CREATED:20210517T154817Z
LAST-MODIFIED:20241001T173150Z
LOCATION:Sundown City Library
URL:https://sundown.ploud.net/events/bluebonnet-book-club/2021-06-15
END:VEVENT
BEGIN:VTIMEZONE
TZID:US/Central
X-LIC-LOCATION:US/Central
BEGIN:DAYLIGHT
DTSTART:20210314T030000
TZNAME:CDT
TZOFFSETFROM:-0600
TZOFFSETTO:-0500
END:DAYLIGHT
END:VTIMEZONE
END:VCALENDAR
