BEGIN:VCALENDAR
VERSION:2.0
PRODID:-//Plone.org//NONSGML plone.app.event//EN
X-WR-TIMEZONE:US/Central
BEGIN:VEVENT
SUMMARY:American Royalty Book Club
DTSTART;TZID=US/Central:20210715T110000
DTEND;TZID=US/Central:20210715T120000
DTSTAMP:20260425T235038Z
UID:ac7bf71442c9420fa80501950e97d0b8@saas_stack_varnish:6080
CONTACT:Andrea McAdams\, 8068911413\, SundownLibrary@gmail.com\, https://s
 undown.readingrecord.net/register.php?progId=4
CREATED:20210520T141848Z
LAST-MODIFIED:20241001T173151Z
LOCATION:Sundown City Library
URL:https://sundown.ploud.net/events/american-royalty-book-club/2021-07-15
END:VEVENT
BEGIN:VTIMEZONE
TZID:US/Central
X-LIC-LOCATION:US/Central
BEGIN:DAYLIGHT
DTSTART:20210314T030000
TZNAME:CDT
TZOFFSETFROM:-0600
TZOFFSETTO:-0500
END:DAYLIGHT
END:VTIMEZONE
END:VCALENDAR
