BEGIN:VCALENDAR
VERSION:2.0
PRODID:-//Plone.org//NONSGML plone.app.event//EN
X-WR-TIMEZONE:US/Central
BEGIN:VEVENT
SUMMARY:Sundown Mobile Food Pantry
DTSTART;TZID=US/Central:20251208T123000
DTEND;TZID=US/Central:20251208T133000
DTSTAMP:20260425T190438Z
UID:5162b00a66a8484d85f3222016593d92@saas_stack_varnish:6080
RRULE:FREQ=MONTHLY;COUNT=8;BYDAY=+3TU
EXDATE;TZID=US/Central:20251216T000000,20260120T000000,20260217T000000,202
 60317T000000,20260421T000000,20260519T000000,20260616T000000,20260721T0000
 00
CREATED:20250904T153724Z
DESCRIPTION:Mobile Food Pantry distribution. Please register to receive a 
 box.
LAST-MODIFIED:20251208T160521Z
URL:https://sundown.ploud.net/events/sundown-mobile-food-pantry-1
END:VEVENT
BEGIN:VEVENT
SUMMARY:Lubbock Master Gardener's Association
DTSTART;TZID=US/Central:20251021T163000
DTEND;TZID=US/Central:20251021T173000
DTSTAMP:20260425T190438Z
UID:7251ea8d36f24f9884f3d255a016cdf4@saas_stack_varnish:6080
CREATED:20250904T194010Z
LAST-MODIFIED:20250904T194018Z
URL:https://sundown.ploud.net/events/lubbock-master-gardeners-association
END:VEVENT
BEGIN:VEVENT
SUMMARY:Mental Health Monday: Affirmation Jars
DTSTART;TZID=US/Central:20251013T160000
DTEND;TZID=US/Central:20251013T170000
DTSTAMP:20260425T190438Z
UID:26a6bbb8858149c893439e4d80ab769e@saas_stack_varnish:6080
CREATED:20250904T180127Z
DESCRIPTION:Make jars of affirmations to keep yourself grounded and motiva
 ted!
LAST-MODIFIED:20250904T180148Z
URL:https://sundown.ploud.net/events/mental-health-monday-affirmation-jars
END:VEVENT
BEGIN:VEVENT
SUMMARY:DIY Magnet Poetry
DTSTART;TZID=US/Central:20251002T160000
DTEND;TZID=US/Central:20251002T170000
DTSTAMP:20260425T190438Z
UID:2a13f487d18d4c018a740253715347f0@saas_stack_varnish:6080
CREATED:20250904T155031Z
DESCRIPTION:Make your own magnet poetry kit for your refrigerator or magne
 t board! Supplies provided.
LAST-MODIFIED:20250904T155037Z
URL:https://sundown.ploud.net/events/diy-magnet-poetry
END:VEVENT
BEGIN:VEVENT
SUMMARY:Dog Etiquette 101
DTSTART;TZID=US/Central:20250930T163000
DTEND;TZID=US/Central:20250930T173000
DTSTAMP:20260425T190438Z
UID:c0cdf372375d4486a346ac3b29d1b2d4@saas_stack_varnish:6080
CREATED:20250904T154841Z
LAST-MODIFIED:20250904T154934Z
URL:https://sundown.ploud.net/events/dog-etiquette-101
END:VEVENT
BEGIN:VEVENT
SUMMARY:Family Cooking Class
DTSTART;TZID=US/Central:20250929T150000
DTEND;TZID=US/Central:20250929T160000
DTSTAMP:20260425T190438Z
UID:fe8191d867264835bb448adddd007222@saas_stack_varnish:6080
CREATED:20250904T154741Z
LAST-MODIFIED:20250904T154748Z
URL:https://sundown.ploud.net/events/family-cooking-class
END:VEVENT
BEGIN:VEVENT
SUMMARY:Age Well: Power of Connections
DTSTART;TZID=US/Central:20250925T140000
DTEND;TZID=US/Central:20250925T150000
DTSTAMP:20260425T190438Z
UID:5d158db386174229accda16e3d07689f@saas_stack_varnish:6080
CREATED:20250904T153917Z
DESCRIPTION:Join us for a seminar hosted by Road Scholar on the Power of C
 onnections in aging lifestyles.
LAST-MODIFIED:20250904T153935Z
LOCATION:Dream Room
URL:https://sundown.ploud.net/events/age-well-power-of-connections
END:VEVENT
BEGIN:VEVENT
SUMMARY:Sundown Mobile Food Pantry
DTSTART;TZID=US/Central:20250923T123000
DTEND;TZID=US/Central:20250923T133000
DTSTAMP:20260425T190438Z
UID:1b69c6377abd4cbb90019bd1aa2a01ee@saas_stack_varnish:6080
RRULE:FREQ=MONTHLY;COUNT=3;BYDAY=+4TU
EXDATE;TZID=US/Central:20251223T000000
CREATED:20250904T153449Z
DESCRIPTION:Mobile Food Pantry distribution. Please register to receive a 
 box.
LAST-MODIFIED:20250904T153457Z
URL:https://sundown.ploud.net/events/sundown-mobile-food-pantry
END:VEVENT
BEGIN:VEVENT
SUMMARY:Lunchtime Lecture: King Tut's Secrets
DTSTART;TZID=US/Central:20250922T120000
DTEND;TZID=US/Central:20250922T130000
DTSTAMP:20260425T190438Z
UID:afdab83e75724215a0f326e51deb0052@saas_stack_varnish:6080
CREATED:20250904T153038Z
DESCRIPTION:Road Scholar brings you a fun and informative lecture about ne
 w discoveries of King Tut\, the Egyptian Pharaoh. Join us for snacks and l
 earning. For all ages.
LAST-MODIFIED:20250904T153048Z
LOCATION:Dream Room
URL:https://sundown.ploud.net/events/lunchtime-lecture-king-tuts-secrets
END:VEVENT
BEGIN:VEVENT
SUMMARY:Stuffie Sleepover Welcome
DTSTART;TZID=US/Central:20250915T153000
DTEND;TZID=US/Central:20250915T163000
DTSTAMP:20260425T190438Z
UID:d123deaaae034c129d1b5c172a2a3fa5@saas_stack_varnish:6080
CREATED:20250904T152731Z
DESCRIPTION:Drop off your stuffed animal for a fun night at the library! P
 ick up the following day on September 16th.
LAST-MODIFIED:20250904T152737Z
LOCATION:Dream Room
URL:https://sundown.ploud.net/events/stuffie-sleepover-welcome
END:VEVENT
BEGIN:VEVENT
SUMMARY:Crochet Club
DTSTART;TZID=US/Central:20250909T150000
DTEND;TZID=US/Central:20250909T180000
DTSTAMP:20260425T190438Z
UID:a56a0f8775ca41d8b997cfc3d6fbad63@saas_stack_varnish:6080
RRULE:FREQ=WEEKLY;COUNT=12;BYDAY=TU
CREATED:20250904T151508Z
DESCRIPTION:Join us for Crochet Club every Tuesday from 3-6 pm! All ages a
 nd skill levels welcome. Yarn and needles provided.
LAST-MODIFIED:20250904T151516Z
URL:https://sundown.ploud.net/events/crochet-club
END:VEVENT
BEGIN:VEVENT
SUMMARY:Bingo
DTSTART;TZID=US/Central:20250909T110000
DTEND;TZID=US/Central:20250909T120000
DTSTAMP:20260425T190438Z
UID:e63ca4723f4b43c19f9d985db0541869@saas_stack_varnish:6080
RRULE:FREQ=WEEKLY;COUNT=10;BYDAY=TU
EXDATE;TZID=US/Central:20250916T000000,20250930T000000,20251014T000000,202
 51028T000000,20251111T000000
CREATED:20250904T152554Z
DESCRIPTION:Play Bingo and win prizes! Every 2nd and 3rd Tuesday at 11 am.
LAST-MODIFIED:20250904T152600Z
LOCATION:Dream Room
URL:https://sundown.ploud.net/events/bingo
END:VEVENT
BEGIN:VEVENT
SUMMARY:LEGO Club
DTSTART;VALUE=DATE:20250909
DTEND;VALUE=DATE:20250910
DTSTAMP:20260425T190438Z
UID:da091c11de3f4c6baf555faaa7e6de27@saas_stack_varnish:6080
RRULE:FREQ=WEEKLY;COUNT=12;BYDAY=TU
CREATED:20250904T151312Z
DESCRIPTION:Come and build all day\, every Tuesday! LEGOs provided.
LAST-MODIFIED:20250904T151322Z
LOCATION:Dream Room
URL:https://sundown.ploud.net/events/lego-club-1
END:VEVENT
BEGIN:VEVENT
SUMMARY:Bookshop Book Club
DTSTART;TZID=US/Central:20250605T143000
DTEND;TZID=US/Central:20250723T100000
DTSTAMP:20260425T190438Z
UID:c9f6320d4ccc4c7a9eeccad82e19fc63@saas_stack_varnish:6080
CONTACT:A'ndrea McAdams\, 8062143099\, SundownLibrary@gmail.com
CREATED:20250519T214058Z
DESCRIPTION:For adults! Pick a book of your choice that has a bookshop set
 ting!
LAST-MODIFIED:20250519T214833Z
LOCATION:201 E. Fifth - DreaM Room
URL:https://sundown.ploud.net/events/bookshop-book-club
END:VEVENT
BEGIN:VEVENT
SUMMARY:StoryTime
DTSTART;TZID=US/Central:20250210T100000
DTEND;TZID=US/Central:20250210T103000
DTSTAMP:20260425T190438Z
UID:b2f2b7e238c34c6fb743a27c9ea95d38@saas_stack_varnish:6080
RRULE:FREQ=WEEKLY;UNTIL=20250511T000000;BYDAY=MO
EXDATE;TZID=US/Central:20250217T000000,20250217T000000,20250224T000000,202
 50317T000000,20250324T000000
CONTACT:Miss Gwen\, 8062143099\, StoryTime79372@gmail.com
CREATED:20250210T143742Z
LAST-MODIFIED:20250210T143755Z
URL:https://sundown.ploud.net/events/storytime-2
END:VEVENT
BEGIN:VEVENT
SUMMARY:Lego Club
DTSTART;VALUE=DATE:20250114
DTEND;VALUE=DATE:20250115
DTSTAMP:20260425T190438Z
UID:8f830abd63fb41fbacc0e2043a50e109@saas_stack_varnish:6080
RRULE:FREQ=WEEKLY;UNTIL=20250519T000000;BYDAY=TU
CREATED:20241210T225650Z
LAST-MODIFIED:20241210T230508Z
URL:https://sundown.ploud.net/events/lego-club
END:VEVENT
BEGIN:VEVENT
SUMMARY:Food Box Distribution
DTSTART;TZID=US/Central:20241015T120000
DTEND;TZID=US/Central:20241015T133000
DTSTAMP:20260425T190438Z
UID:138e3310b45b453aaa1b62a06f363c82@saas_stack_varnish:6080
RRULE:FREQ=MONTHLY;COUNT=7;BYDAY=+3TU
EXDATE;TZID=US/Central:20241119T000000,20250121T000000,20250218T000000
CONTACT:Patrice\, call library 806-214-3099 for her number
CREATED:20241010T170508Z
DESCRIPTION:If you are part of the South Plains Food Bank assistance\, ple
 ase mark your calendar for this distribution date. Reminder to clients: If
  you are NOT able to make it\, please contact the coordinator (Patrice). I
 f you need her number\, please call the library.
LAST-MODIFIED:20241210T230911Z
LOCATION:Veal St. (west of library)
URL:https://sundown.ploud.net/events/food-box-distribution
END:VEVENT
BEGIN:VEVENT
SUMMARY:Holiday hours adjusted
DTSTART;VALUE=DATE:20241014
DTEND;VALUE=DATE:20241015
DTSTAMP:20260425T190438Z
UID:f5732fbd18cb4c0cbca3cb4e270eb2a1@saas_stack_varnish:6080
CREATED:20241010T175502Z
DESCRIPTION:The library will be closed on Monday\, Oct. 14 in observance o
 f Columbus Day. We will be OPEN on Friday\, Oct. 18 from 9am-1pm to serve 
 you.
LAST-MODIFIED:20241010T175651Z
URL:https://sundown.ploud.net/events/holiday-hours-adjusted
END:VEVENT
BEGIN:VEVENT
SUMMARY:Senior Fitness
DTSTART;TZID=US/Central:20241009T110000
DTEND;TZID=US/Central:20241010T114500
DTSTAMP:20260425T190438Z
UID:ad5d9584eaa44679989d55a5eebb9b13@saas_stack_varnish:6080
RRULE:FREQ=WEEKLY;COUNT=7;BYDAY=WE
EXDATE;TZID=US/Central:20241120T000000
CONTACT:A'ndrea McAdams\, 8062143099\, SundownLibrary@gmail.com
CREATED:20241010T154933Z
DESCRIPTION:These Yogi's will get you moving with Balance\, Energy\, Activ
 ity\, and Relaxation! Come join the group!
LAST-MODIFIED:20241119T165034Z
LOCATION:201 E. Fifth - DreaM Room
URL:https://sundown.ploud.net/events/senior-fitness
END:VEVENT
BEGIN:VEVENT
SUMMARY:BAGELS & BOOKS FOR MOMS
DTSTART;TZID=US/Central:20240912T100000
DTEND;TZID=US/Central:20240912T110000
DTSTAMP:20260425T190438Z
UID:5d5470fa0c4d4fb2b7a7d159b316a2d3@saas_stack_varnish:6080
RRULE:FREQ=WEEKLY;COUNT=7;BYDAY=TH
EXDATE;TZID=US/Central:20241024T000000
CONTACT:Mirium Rodriguez\, roughnecksread@gmail.com
CREATED:20240716T170026Z
DESCRIPTION:Truth is that all moms need a break! Join us as we read "Remai
 ning you while Raising them" weekly. Bagels\, book\, & coffee provided :)
LAST-MODIFIED:20241010T160031Z
LOCATION:City of Sundown Library
URL:https://sundown.ploud.net/events/bagels-books-for-moms
END:VEVENT
BEGIN:VEVENT
SUMMARY:American Heart Association Healthy Living
DTSTART;TZID=US/Central:20240718T140000
DTEND;TZID=US/Central:20240718T150000
DTSTAMP:20260425T190438Z
UID:01e97ffdffc64a0eb5cf9584f530f865@saas_stack_varnish:6080
CONTACT:Andrea McAdams\, 8068911413\, SundownLibrary@gmail.com
CREATED:20240529T224427Z
DESCRIPTION:Eating smart
LAST-MODIFIED:20241001T173152Z
LOCATION:201 E. Fifth - DreaM Room
URL:https://sundown.ploud.net/events/american-heart-association-healthy-li
 ving
END:VEVENT
BEGIN:VEVENT
SUMMARY:Writers' Clinic
DTSTART;TZID=US/Central:20240717T130000
DTEND;TZID=US/Central:20240717T140000
DTSTAMP:20260425T190438Z
UID:760c2c6727c34b2781e00213c77c76e2@saas_stack_varnish:6080
CONTACT:Andrea McAdams\, 8062143099\, SundownLibrary@gmail.com
CREATED:20240528T183125Z
DESCRIPTION:Any ages of writers will enjoy learning more about the writing
  process.
LAST-MODIFIED:20241001T173152Z
LOCATION:201 E. Fifth - DreaM Room
URL:https://sundown.ploud.net/events/writers-clinic
END:VEVENT
BEGIN:VEVENT
SUMMARY:Author & Horse Visit
DTSTART;TZID=US/Central:20240716T100000
DTEND;TZID=US/Central:20240716T110000
DTSTAMP:20260425T190438Z
UID:db1dfc0d68324846b42efa2b20ad250c@saas_stack_varnish:6080
CREATED:20240528T173705Z
DESCRIPTION:We welcome SJ Dahlstrom & horse\, Thunder
LAST-MODIFIED:20241001T173152Z
LOCATION:201 E. Fifth St. (outdoors)
URL:https://sundown.ploud.net/events/author-horse-visit
END:VEVENT
BEGIN:VEVENT
SUMMARY:CrafterNOON - Kanvas Kids
DTSTART;TZID=US/Central:20240715T120000
DTEND;TZID=US/Central:20240715T130000
DTSTAMP:20260425T190438Z
UID:b08041c863aa4a229cf52bd8e797acdc@saas_stack_varnish:6080
CONTACT:Sundown Library\, 8068911413\, SundownLibrary@gmail.com
CREATED:20240527T114243Z
LAST-MODIFIED:20241001T173151Z
LOCATION:201 E. Fifth - DreaM Room
URL:https://sundown.ploud.net/events/crafternoon-kanvas-kids
END:VEVENT
BEGIN:VEVENT
SUMMARY:Read with Flint & Friends
DTSTART;TZID=US/Central:20240709T100000
DTEND;TZID=US/Central:20240709T110000
DTSTAMP:20260425T190438Z
UID:b9f1f7eaeea745d295f1f6eb0dee1c4c@saas_stack_varnish:6080
CREATED:20240528T172422Z
DESCRIPTION:A service dog will be here to provide a listening ear!
LAST-MODIFIED:20241001T173152Z
LOCATION:201 E. Fifth St. Children's section
URL:https://sundown.ploud.net/events/read-with-flint-friends
END:VEVENT
BEGIN:VEVENT
SUMMARY:American Heart Association LIFE-SAVING SKILLS
DTSTART;TZID=US/Central:20240620T140000
DTEND;TZID=US/Central:20240620T150000
DTSTAMP:20260425T190438Z
UID:05964906a62d4d5cb7b43abc70653967@saas_stack_varnish:6080
CONTACT:Andrea McAdams\, 8062143099\, SundownLibrary@gmail.com
CREATED:20240529T221246Z
LAST-MODIFIED:20241001T173152Z
LOCATION:201 E. Fifth - DreaM Room
URL:https://sundown.ploud.net/events/american-heart-association-life-savin
 g-skills
END:VEVENT
BEGIN:VEVENT
SUMMARY:Water Conservation Trailer
DTSTART;TZID=US/Central:20240610T090000
DTEND;TZID=US/Central:20240610T120000
DTSTAMP:20260425T190438Z
UID:3305da7a20c64b64a20dc9d0ba1bff6e@saas_stack_varnish:6080
CONTACT:Andrea McAdams\, 8062143099\, SundownLibrary@gmail.com
CREATED:20240527T225729Z
DESCRIPTION:Hands-on education!
LAST-MODIFIED:20241001T173153Z
LOCATION:201 E. Fifth
URL:https://sundown.ploud.net/events/water-conservation-trailer-1
END:VEVENT
BEGIN:VEVENT
SUMMARY:T2: Techno T(w)eens
DTSTART;TZID=US/Central:20240604T120000
DTEND;TZID=US/Central:20240604T133000
DTSTAMP:20260425T190438Z
UID:59cf3cb5955f49bd826c351c434ab94f@saas_stack_varnish:6080
RRULE:FREQ=WEEKLY;COUNT=4;BYDAY=TU
EXDATE;TZID=US/Central:20240618T000000
CONTACT:Andrea McAdams\, 8062143099\, SundownLibrary@gmail.com
CREATED:20240527T193054Z
DESCRIPTION:For tweens\, ages 9-12\, & teens (13-15)
LAST-MODIFIED:20241001T173153Z
LOCATION:201 E. Fifth - DreaM Room
URL:https://sundown.ploud.net/events/t2-techno-t-w-eens
END:VEVENT
BEGIN:VEVENT
SUMMARY:CrafterNOON
DTSTART;TZID=US/Central:20240603T120000
DTSTAMP:20260425T190438Z
UID:5967bd15d536427b9196cd0c7d464366@saas_stack_varnish:6080
RRULE:FREQ=WEEKLY;UNTIL=20240708T000000;BYDAY=MO
EXDATE;TZID=US/Central:20240624T000000,20240715T000000
CONTACT:A'ndrea McAdams\, 8062143099\, SundownLibrary@gmail.com
CREATED:20240417T163243Z
LAST-MODIFIED:20241001T173151Z
LOCATION:201 E. Fifth
URL:https://sundown.ploud.net/events/crafternoon
END:VEVENT
BEGIN:VEVENT
SUMMARY:StoryTime
DTSTART;TZID=US/Central:20240422T100000
DTEND;TZID=US/Central:20240422T104500
DTSTAMP:20260425T190438Z
UID:9a1d1354597541889920df1acffce65d@saas_stack_varnish:6080
RRULE:FREQ=WEEKLY;UNTIL=20240729T000000;BYDAY=MO
CONTACT:Roxane Rivera\, 8062143099\, StoryTime79372@gmail.com
CREATED:20240417T162340Z
LAST-MODIFIED:20241001T173151Z
LOCATION:201 E. Fifth - DreaM Room
URL:https://sundown.ploud.net/events/storytime-1
END:VEVENT
BEGIN:VEVENT
SUMMARY:Roughnecks READ in the Park
DTSTART;TZID=US/Central:20220813T110000
DTEND;TZID=US/Central:20220813T150000
DTSTAMP:20260425T190438Z
UID:e66459a229bc4466a07905d2b3fa7954@saas_stack_varnish:6080
CONTACT:Andrea McAdams\, 8068911413\, SundownLibrary@gmail.com
CREATED:20220623T192609Z
LAST-MODIFIED:20241001T173153Z
LOCATION:Roughneck Park (by golf course)
URL:https://sundown.ploud.net/events/roughnecks-read-in-the-park
END:VEVENT
BEGIN:VEVENT
SUMMARY:Bee Program
DTSTART;TZID=US/Central:20220721T130000
DTSTAMP:20260425T190438Z
UID:8555a5e10bfa4bb39afd4a8ffb780d66@saas_stack_varnish:6080
CONTACT:Andrea McAdams\, 8068911413\, SundownLibrary@gmail.com
CREATED:20220602T183744Z
LAST-MODIFIED:20241001T173152Z
LOCATION:Annex @ 201 E. 5th
URL:https://sundown.ploud.net/events/bee-program
END:VEVENT
BEGIN:VEVENT
SUMMARY:Royal Tea Party
DTSTART;TZID=US/Central:20220714T110000
DTEND;TZID=US/Central:20220714T120000
DTSTAMP:20260425T190438Z
UID:28111976c71c4c0ab0d72022b04b0d6a@saas_stack_varnish:6080
CONTACT:Andrea McAdams\, 8068911413\, SundownLibrary@gmail.com
CREATED:20220602T182902Z
LAST-MODIFIED:20241001T173153Z
LOCATION:Annex @ 201 E. 5th
URL:https://sundown.ploud.net/events/royal-tea-party
END:VEVENT
BEGIN:VEVENT
SUMMARY:Game Warden
DTSTART;TZID=US/Central:20220707T130000
DTEND;TZID=US/Central:20220707T140000
DTSTAMP:20260425T190438Z
UID:28649b81b4a2434ab3ebf0d7f43388e5@saas_stack_varnish:6080
CREATED:20220630T153307Z
LAST-MODIFIED:20241001T173153Z
LOCATION:Annex @ 201 E. 5th
URL:https://sundown.ploud.net/events/game-warden
END:VEVENT
BEGIN:VEVENT
SUMMARY:Bonus movie matinee
DTSTART;TZID=US/Central:20220630T140000
DTEND;TZID=US/Central:20220630T153000
DTSTAMP:20260425T190438Z
UID:4d4b7fd00f854bb69bad5e0b4b3a8188@saas_stack_varnish:6080
CONTACT:Andrea McAdams\, 8068911413\, SundownLibrary@gmail.com
CREATED:20220623T191157Z
LAST-MODIFIED:20241001T173153Z
LOCATION:Annex @ 201 E. 5th
URL:https://sundown.ploud.net/events/bonus-movie-matinee
END:VEVENT
BEGIN:VEVENT
SUMMARY:CANCELLED: Water Conservation Program
DTSTART;TZID=US/Central:20220629T140000
DTEND;TZID=US/Central:20220629T150000
DTSTAMP:20260425T190438Z
UID:1647ca3fd4594a06a1ff046c67133e4e@saas_stack_varnish:6080
CONTACT:Andrea McAdams\, 8068911413\, SundownLibrary@gmail.com
CREATED:20220602T184443Z
LAST-MODIFIED:20241001T173153Z
LOCATION:Annex @ 201 E. 5th
URL:https://sundown.ploud.net/events/water-conservation-program
END:VEVENT
BEGIN:VEVENT
SUMMARY:CANCELLED: Water Conservation Interactive Trailer
DTSTART;TZID=US/Central:20220629T090000
DTEND;TZID=US/Central:20220629T133000
DTSTAMP:20260425T190438Z
UID:19768cd089dd411a948f35a1c62ef394@saas_stack_varnish:6080
CONTACT:Andrea McAdams\, 8068911413\, SundownLibrary@gmail.com
CREATED:20220602T184253Z
LAST-MODIFIED:20241001T173153Z
LOCATION:Library parking lot 207 E. Richardson
URL:https://sundown.ploud.net/events/water-conservation-interactive-traile
 r
END:VEVENT
BEGIN:VEVENT
SUMMARY:Writing Clinic w/ author S.J. Dahlstrom
DTSTART;TZID=US/Central:20220620T140000
DTEND;TZID=US/Central:20220620T150000
DTSTAMP:20260425T190438Z
UID:58743775c4e84bb792d79553cc2a0ca0@saas_stack_varnish:6080
CONTACT:Andrea McAdams\, 8068911413\, SundownLibrary@gmail.com
CREATED:20220602T183409Z
LAST-MODIFIED:20241001T173153Z
LOCATION:Annex @ 201 E. 5th
URL:https://sundown.ploud.net/events/writing-clinic-w-author-s-j-dahlstrom
END:VEVENT
BEGIN:VEVENT
SUMMARY:Movie Matinee
DTSTART;TZID=US/Central:20220616T140000
DTEND;TZID=US/Central:20220616T153000
DTSTAMP:20260425T190438Z
UID:abe44ef130ee44bc8d3cdcc6f1911a42@saas_stack_varnish:6080
RRULE:FREQ=DAILY;COUNT=7;INTERVAL=7
EXDATE;TZID=US/Central:20220630T000000
CONTACT:Andrea McAdams\, 8068911413\, SundownLibrary@gmail.com
CREATED:20220602T182313Z
LAST-MODIFIED:20241001T173153Z
LOCATION:Annex @ 201 E. 5th
URL:https://sundown.ploud.net/events/movie-matinee
END:VEVENT
BEGIN:VEVENT
SUMMARY:StoryTime with Sarah
DTSTART;TZID=US/Central:20220607T100000
DTEND;TZID=US/Central:20220607T104500
DTSTAMP:20260425T190438Z
UID:864ec514fc9e4177a7dd65b00624e0ff@saas_stack_varnish:6080
RRULE:FREQ=WEEKLY;UNTIL=20220802T000000;BYDAY=TU
CONTACT:Andrea McAdams\, 8068911413\, SundownLibrary@gmail.com
CREATED:20220320T225431Z
LAST-MODIFIED:20241001T173153Z
LOCATION:Annex @ 201 E. 5th
URL:https://sundown.ploud.net/events/storytime-with-sarah
END:VEVENT
BEGIN:VEVENT
SUMMARY:Origami Education
DTSTART;TZID=US/Central:20220602T140000
DTSTAMP:20260425T190438Z
UID:38a8310a86b548699849169fce69df76@saas_stack_varnish:6080
CONTACT:Andrea McAdams\, 8068911413\, SundownLibrary@gmail.com\, https://y
 outu.be/Btwy8LMZocA
CREATED:20220602T185156Z
LAST-MODIFIED:20241001T173153Z
LOCATION:Sundown City Library
URL:https://sundown.ploud.net/events/origami-education
END:VEVENT
BEGIN:VEVENT
SUMMARY:Stuffie Sleepover
DTSTART;TZID=US/Central:20210913T150000
DTEND;TZID=US/Central:20210914T180000
DTSTAMP:20260425T190438Z
UID:2ee0a899d559420f82a64b60f91c054e@saas_stack_varnish:6080
CONTACT:Andrea McAdams\, 8068911413\, SundownLibrary@gmail.com
CREATED:20210819T162017Z
LAST-MODIFIED:20241001T173153Z
LOCATION:Sundown City Library
URL:https://sundown.ploud.net/events/stuffie-sleepover
END:VEVENT
BEGIN:VEVENT
SUMMARY:We Remember
DTSTART;TZID=US/Central:20210911T190000
DTEND;TZID=US/Central:20210912T140000
DTSTAMP:20260425T190438Z
UID:25624e1fe4d54347a49ac17547bebc96@saas_stack_varnish:6080
CREATED:20210914T153706Z
LAST-MODIFIED:20241001T173153Z
LOCATION:Sundown ISD Auditorium
URL:https://sundown.ploud.net/events/we-remember
END:VEVENT
BEGIN:VEVENT
SUMMARY:Back the Blue/Back to School parking lot event
DTSTART;TZID=US/Central:20210812T170000
DTEND;TZID=US/Central:20210812T190000
DTSTAMP:20260425T190438Z
UID:2d9a9a5011c749a68c723a064cc048b2@saas_stack_varnish:6080
CONTACT:Andrea McAdams\, 8068911413\, SundownLibrary@gmail.com
CREATED:20210715T154054Z
LAST-MODIFIED:20241001T173153Z
LOCATION:The Facility (Sundown ISD) E. 7th by football field
URL:https://sundown.ploud.net/events/back-the-blue-back-to-school-parking-
 lot-event
END:VEVENT
BEGIN:VEVENT
SUMMARY:Summer Reading Program Ends
DTSTART;VALUE=DATE:20210806
DTEND;VALUE=DATE:20210807
DTSTAMP:20260425T190438Z
UID:db6ade258eb54bc393554b06993951e6@saas_stack_varnish:6080
CONTACT:Andrea McAdams\, 80628911413\, SundownLibrary@gmail.com
CREATED:20210715T155103Z
LAST-MODIFIED:20241001T173151Z
LOCATION:Library
URL:https://sundown.ploud.net/events/summer-reading-program-ends
END:VEVENT
BEGIN:VEVENT
SUMMARY:Anime Culinary Book Club
DTSTART;TZID=US/Central:20210712T160000
DTEND;TZID=US/Central:20210712T164500
DTSTAMP:20260425T190438Z
UID:caeaa34f909f4cdf9a10c8eeeec995fa@saas_stack_varnish:6080
RRULE:FREQ=WEEKLY;COUNT=2;BYDAY=MO
CONTACT:Andrea McAdams\, 8068911413\, SundownLibrary@gmail.com\, https://s
 undown.readingrecord.net/register.php?progId=3
CREATED:20210517T160415Z
LAST-MODIFIED:20241001T173151Z
LOCATION:Sundown City Library
URL:https://sundown.ploud.net/events/anime-culinary-book-club
END:VEVENT
BEGIN:VEVENT
SUMMARY:American Royalty Book Club
DTSTART;TZID=US/Central:20210701T110000
DTEND;TZID=US/Central:20210701T120000
DTSTAMP:20260425T190438Z
UID:ac7bf71442c9420fa80501950e97d0b8@saas_stack_varnish:6080
RRULE:FREQ=WEEKLY;COUNT=3;BYDAY=TH
CONTACT:Andrea McAdams\, 8068911413\, SundownLibrary@gmail.com\, https://s
 undown.readingrecord.net/register.php?progId=4
CREATED:20210520T141848Z
LAST-MODIFIED:20241001T173151Z
LOCATION:Sundown City Library
URL:https://sundown.ploud.net/events/american-royalty-book-club
END:VEVENT
BEGIN:VEVENT
SUMMARY:American Royalty Book Club
DTSTART;TZID=US/Central:20210701T110000
DTEND;TZID=US/Central:20210701T120000
DTSTAMP:20260425T190438Z
UID:d797ff2469d7461d9eae398243163068@saas_stack_varnish:6080
RRULE:FREQ=WEEKLY;COUNT=3;BYDAY=TH
CONTACT:Andrea McAdams\, 8068911413\, SundownLibrary@gmail.com
CREATED:20210517T151933Z
LAST-MODIFIED:20241001T173153Z
LOCATION:Sundown City Library
URL:https://sundown.ploud.net/events/copy_of_american-royalty-book-club
END:VEVENT
BEGIN:VEVENT
SUMMARY:StoryTime
DTSTART;TZID=US/Central:20210615T100000
DTEND;TZID=US/Central:20210615T103000
DTSTAMP:20260425T190438Z
UID:c0cca8c76e324bb3ae69665596f76a51@saas_stack_varnish:6080
RRULE:FREQ=MONTHLY;UNTIL=20210720T000000;BYDAY=+3TU
CONTACT:Andrea McAdams\, 8068911413\, SundownLibrary@gmail.com
CREATED:20210517T153922Z
LAST-MODIFIED:20241001T173150Z
URL:https://sundown.ploud.net/events/storytime
END:VEVENT
BEGIN:VEVENT
SUMMARY:Bluebonnet Book Club
DTSTART;TZID=US/Central:20210608T110000
DTEND;TZID=US/Central:20210608T113000
DTSTAMP:20260425T190438Z
UID:51c00ca9eff3468e9ec4402c445a4a68@saas_stack_varnish:6080
RRULE:FREQ=WEEKLY;COUNT=5;BYDAY=TU,TH
CONTACT:Andrea McAdams\, 8068911413\, SundownLibrary@gmail.com
CREATED:20210517T154817Z
LAST-MODIFIED:20241001T173150Z
LOCATION:Sundown City Library
URL:https://sundown.ploud.net/events/bluebonnet-book-club
END:VEVENT
BEGIN:VTIMEZONE
TZID:US/Central
X-LIC-LOCATION:US/Central
BEGIN:STANDARD
DTSTART:20251102T010000
TZNAME:CST
TZOFFSETFROM:-0500
TZOFFSETTO:-0600
END:STANDARD
BEGIN:DAYLIGHT
DTSTART:20250309T030000
TZNAME:CDT
TZOFFSETFROM:-0600
TZOFFSETTO:-0500
END:DAYLIGHT
BEGIN:STANDARD
DTSTART:20241103T010000
TZNAME:CST
TZOFFSETFROM:-0500
TZOFFSETTO:-0600
END:STANDARD
BEGIN:DAYLIGHT
DTSTART:20240310T030000
TZNAME:CDT
TZOFFSETFROM:-0600
TZOFFSETTO:-0500
END:DAYLIGHT
BEGIN:DAYLIGHT
DTSTART:20220313T030000
TZNAME:CDT
TZOFFSETFROM:-0600
TZOFFSETTO:-0500
END:DAYLIGHT
BEGIN:DAYLIGHT
DTSTART:20210314T030000
TZNAME:CDT
TZOFFSETFROM:-0600
TZOFFSETTO:-0500
END:DAYLIGHT
END:VTIMEZONE
END:VCALENDAR
