BEGIN:VCALENDAR
VERSION:2.0
PRODID:-//Plone.org//NONSGML plone.app.event//EN
X-WR-TIMEZONE:US/Central
BEGIN:VEVENT
SUMMARY:National Library Week 2026
DTSTART;VALUE=DATE:20260420
DTEND;VALUE=DATE:20260424
DTSTAMP:20260421T084043Z
UID:a2d0a494049f400aafd46b03a8c3813a@saas_stack_varnish:6080
CREATED:20260205T151641Z
DESCRIPTION:Celebrate libraries with a week of events!
LAST-MODIFIED:20260205T151951Z
URL:https://sundown.ploud.net/quilting-club-2
END:VEVENT
BEGIN:VEVENT
SUMMARY:Bingo
DTSTART;TZID=US/Central:20260421T110000
DTEND;TZID=US/Central:20260426T140000
DTSTAMP:20260421T084043Z
UID:2449050dd74c453fa6660acad3f2ae18@saas_stack_varnish:6080
RRULE:FREQ=WEEKLY;COUNT=10;BYDAY=TU
EXDATE;TZID=US/Central:20260317T000000,20260331T000000,20260414T000000,202
 60428T000000,20260512T000000
CREATED:20260115T191117Z
LAST-MODIFIED:20260115T191123Z
URL:https://sundown.ploud.net/bingo-3
END:VEVENT
BEGIN:VEVENT
SUMMARY:Sundown Mobile Food Pantry
DTSTART;TZID=US/Central:20260421T123000
DTEND;TZID=US/Central:20260421T133000
DTSTAMP:20260421T084043Z
UID:5b5c14efbeb44318b2554242cd6bbe94@saas_stack_varnish:6080
RRULE:FREQ=MONTHLY;COUNT=5;BYDAY=+3TU
EXDATE;TZID=US/Central:20260721T000000
CREATED:20251208T202005Z
LAST-MODIFIED:20251208T202012Z
URL:https://sundown.ploud.net/sundown-mobile-food-pantry-1
END:VEVENT
BEGIN:VTIMEZONE
TZID:US/Central
X-LIC-LOCATION:US/Central
BEGIN:DAYLIGHT
DTSTART:20260308T030000
TZNAME:CDT
TZOFFSETFROM:-0600
TZOFFSETTO:-0500
END:DAYLIGHT
END:VTIMEZONE
END:VCALENDAR
